BEGIN:VCALENDAR
VERSION:2.0
PRODID:-//WTIA - ECPv6.2.8.2//NONSGML v1.0//EN
CALSCALE:GREGORIAN
METHOD:PUBLISH
X-ORIGINAL-URL:https://www.washingtontechnology.org
X-WR-CALDESC:Events for WTIA
REFRESH-INTERVAL;VALUE=DURATION:PT1H
X-Robots-Tag:noindex
X-PUBLISHED-TTL:PT1H
BEGIN:VTIMEZONE
TZID:America/Los_Angeles
BEGIN:DAYLIGHT
TZOFFSETFROM:-0800
TZOFFSETTO:-0700
TZNAME:PDT
DTSTART:20240310T100000
END:DAYLIGHT
BEGIN:STANDARD
TZOFFSETFROM:-0700
TZOFFSETTO:-0800
TZNAME:PST
DTSTART:20241103T090000
END:STANDARD
END:VTIMEZONE
BEGIN:VEVENT
DTSTART;TZID=America/Los_Angeles:20240123T120000
DTEND;TZID=America/Los_Angeles:20240123T130000
DTSTAMP:20240106T011521
CREATED:20230623T081907Z
LAST-MODIFIED:20230623T081907Z
UID:10001006-1706011200-1706014800@www.washingtontechnology.org
SUMMARY:Free Startup Fundraising Office Hours AMA with Angel Investor Scott Fox!
DESCRIPTION:RSVP Here!\nStartup Entrepreneurs – Free LIVE Fundraising Q&A with Angel Investor/Serial Founder/Startup Expert Scott Fox \nBring your startup questions to the Startup Council’s FREE founder fundraising “Office Hours”. You’ll get FREE expert Silicon Valley advice to help diverse entrepreneurs start\, raise money\, and grow new ventures. \nHave questions about raising venture capital? How to find product/market fit? Angel investors? Pitch decks? Building your team? Protecting your intellectual property? How to find investors and pitch to raise your seed round? Starting a company as a first-time\, female\, or minority founder? \nA fun\, friendly #livestream videocast show for startup founders and friends\, our mission is to increase access to innovation and investment for all. Join startup expert\, Scott Fox\, for valuable startup strategy advice\, fundraising expertise\, and networking\, too. \nWHEN: The 4th Tuesday of every month at NOON Pacific Time (300pm ET/~800pm UK): https://startup-office-hours.eventbrite.com \nJOIN US to WATCH & CHAT LIVE ONLINE:\nhttps://www.linkedin.com/company/startupcouncil\nhttps://www.youtube.com/scottfox\nhttps://www.facebook.com/clickmillionaire\nhttps://startup-office-hours.eventbrite.com\nPodcast: http://scottfoxradio.com \nHAVE A STARTUP QUESTION? RSVP in advance for helpful\, free expert feedback LIVE!\nPlease send in your Startup Question here ***before ***the show:\nhttps://startup-office-hours.eventbrite.com \nYour Host & Moderator: Scott Fox CEO of the Startup Council\, Chairman of Stanford Angels & Entrepreneurs Orange County\, Tech Coast Angels\, investor in 20+ startup companies\, serial startup founder\, best-selling entrepreneurship author of Click Millionaires\, Internet Riches\, more… \nSPONSORS \n** Presented in partnership with the Women’s Business Center. ** \nCake Equity: Thanks to Cake Equity for supporting this show! Learn how Cake’s global stock options platform can help your startup team easily ‘share the cake’\, too. Their basic plan is FREE for your first 5 option grants\, and you can save 20% after that by visiting https://cakeequity.com/partner/sc. \nWant great FREE Startup Advice NOW? Click to SUBSCRIBE & see previous shows now at https://www.youtube.com/scottfox \nBy attending/watching all participants recognize that advice given is PUBLIC\, is for entertainment/informational use only\, agree to release\, indemnify\, hold harmless\, defend\, and pay defense costs for all organizers from any and all liability or claims\, and consent to use and sharing in any media of any photos or videos taken.
URL:https://www.washingtontechnology.org/event/free-startup-fundraising-office-hours-ama-with-angel-investor-scott-fox/2024-01-23/
LOCATION:Virtual
CATEGORIES:Community Partner Events
ATTACH;FMTTYPE=image/webp:https://www.washingtontechnology.org/wp-content/uploads/2023/06/600_512800817.webp
END:VEVENT
END:VCALENDAR