BEGIN:VCALENDAR
VERSION:2.0
PRODID:-//WTIA - ECPv6.2.8.2//NONSGML v1.0//EN
CALSCALE:GREGORIAN
METHOD:PUBLISH
X-WR-CALNAME:WTIA
X-ORIGINAL-URL:https://www.washingtontechnology.org
X-WR-CALDESC:Events for WTIA
REFRESH-INTERVAL;VALUE=DURATION:PT1H
X-Robots-Tag:noindex
X-PUBLISHED-TTL:PT1H
BEGIN:VTIMEZONE
TZID:America/Los_Angeles
BEGIN:DAYLIGHT
TZOFFSETFROM:-0800
TZOFFSETTO:-0700
TZNAME:PDT
DTSTART:20240310T100000
END:DAYLIGHT
BEGIN:STANDARD
TZOFFSETFROM:-0700
TZOFFSETTO:-0800
TZNAME:PST
DTSTART:20241103T090000
END:STANDARD
END:VTIMEZONE
BEGIN:VEVENT
DTSTART;TZID=America/Los_Angeles:20240125T123000
DTEND;TZID=America/Los_Angeles:20240125T130000
DTSTAMP:20240106T011810
CREATED:20231207T102108Z
LAST-MODIFIED:20231207T102109Z
UID:10001979-1706185800-1706187600@www.washingtontechnology.org
SUMMARY:Web3 and Blockchain Continuing Professional Education for CPAs
DESCRIPTION:Rsvp: \nJoin WTIA and Clark Nuber for an educational session about accounting and tax topics related to Web3 and Blockchain. This session will count as one hour of Continuing Professional Education for CPAs.
URL:https://www.washingtontechnology.org/event/web3-and-blockchain-continuing-professional-education-for-cpas/
LOCATION:Virtual
CATEGORIES:WTIA Events,Startup Program
ORGANIZER;CN="WTIA":MAILTO:info@washingtontechnolofy.org
END:VEVENT
END:VCALENDAR