BEGIN:VCALENDAR
VERSION:2.0
PRODID:-//WTIA - ECPv6.2.8.2//NONSGML v1.0//EN
CALSCALE:GREGORIAN
METHOD:PUBLISH
X-WR-CALNAME:WTIA
X-ORIGINAL-URL:https://www.washingtontechnology.org
X-WR-CALDESC:Events for WTIA
REFRESH-INTERVAL;VALUE=DURATION:PT1H
X-Robots-Tag:noindex
X-PUBLISHED-TTL:PT1H
BEGIN:VTIMEZONE
TZID:America/Los_Angeles
BEGIN:DAYLIGHT
TZOFFSETFROM:-0800
TZOFFSETTO:-0700
TZNAME:PDT
DTSTART:20240310T100000
END:DAYLIGHT
BEGIN:STANDARD
TZOFFSETFROM:-0700
TZOFFSETTO:-0800
TZNAME:PST
DTSTART:20241103T090000
END:STANDARD
END:VTIMEZONE
BEGIN:VEVENT
DTSTART;TZID=America/Los_Angeles:20240205T120000
DTEND;TZID=America/Los_Angeles:20240205T130000
DTSTAMP:20240106T011908
CREATED:20231115T031809Z
LAST-MODIFIED:20231115T031949Z
UID:10001717-1707134400-1707138000@www.washingtontechnology.org
SUMMARY:Silicon Valley Business Networking (Online)
DESCRIPTION:Rsvp: \nOrganizational Sponsor: \nStartup House \nNeed a place to stay short term in Silicon Valley? \nStay at Startup House in Palo Alto – the heart of Silicon Valley – for as low as $50 a night! \n-Network\, socialize and connect with entrepreneurs all over the world! \n-Enjoy social events and startup and venture capital-related programming! \n– Have access to world class amenities\, iconic tech companies\, top tier venture capital firms\, Stanford University\, etc. – all within walking or biking distance! \nFor more info\, send an email message to: \nsiliconvalleystartuphousing@gmail.com \nPut this in the subject header: \nSilicon Valley Startup Housing \nThis event is 100% online. \nParticipants can be located anywhere in the world! \nThis event is FREE to attend! \nIn order to attend\, please register here: \nhttps://www.eventbrite.com/e/silicon-valley-business-networking-online-tickets-712802279807?aff=oddtdtcreator \n(The login link will be sent via email to Eventbrite registrants right before the start of the event.)
URL:https://www.washingtontechnology.org/event/silicon-valley-business-networking-online/2024-02-05/
LOCATION:Virtual
END:VEVENT
BEGIN:VEVENT
DTSTART;TZID=America/Los_Angeles:20240207T190000
DTEND;TZID=America/Los_Angeles:20240207T210000
DTSTAMP:20240106T011908
CREATED:20230623T082924Z
LAST-MODIFIED:20230623T082924Z
UID:10001151-1707332400-1707339600@www.washingtontechnology.org
SUMMARY:FREE! Pitch Practice: How to Pitch to Investors and Get the Deal
DESCRIPTION:RSVP Here!\nThis is an online event. Participation is 100% online. \nParticipants who have registered and paid via Eventbrite will be emailed the login link and info before the start of the event. \nParticipants can be located anywhere in the world! \nThis event is FREE to attend. \nA “YES” RSVP on our meetup site does not confirm your reservation. \nSpace is limited. Please only RSVP “Yes” if you will be attending \nIn order to attend\, please register here: \nhttps://www.eventbrite.com/e/free-pitch-practice-how-to-pitch-to-investors-successfully-raise-money-tickets-122887079563?aff=IdeaSViLabFreeTix33Comm&afu=3951017871 \nHurry! Slots are limited! \nRaising $ is tough- and now it’s all changed. PRACTICE your PITCH\, get facts & inside info to RAISE $ & Scale your Innovation into Revenue! \nYou are invited to a live-steam webinar/workshop. \n*** BRING YOUR PITCH DECK. Two or more Founders will pitch and get feedback. *** \n*** Audience members will get a chance to make a NEW ELEVATOR PITCH and get feedback. THIS IS A REAL WORKSHOP! *** \nRaising money is a difficult and stressful task for startup Founders.Founders struggle to get the right combination of facts and projections to persuade investors to put in money. \nThis workshop is an intro to the longer pitch program. It covers to the two main parts of pitching: \n\n\nWhat to say \n\n\nHow to say it \n\n\nOn this webinar you will learn: \n\n\nThe five step elevator pitch to get to the point in 60 seconds. \n\n\nThe standard topic for each page of the pitch deck\, (for 90% of the startups) \n\n\nHow to use your customer “use case” in a story to show what your product does \n\n\nThe four key background points to set your pitch in the right direction \n\n\nThe key item two thirds of startup pitches leave out that is critical to customer adaption \n\n\nThe essential key points investors are looking for \n\n\nand more! \nThis workshop is an intro to a four day workshop that speaker\, entrepreneur and thought leader Steve Austin has presented to accelerators in San Francisco\, Silicon Valley\, in Asia and Europe.This content was derived from interviews with angel investors and venture capitalists in attendance at over 100 pitch to investor events where Steve’s students have pitched. \nThis workshop focuses on what angel investors and venture capitalists have indicated they are looking for in startup pitches. \nDon’t waste more time with weak pitches. \nLearn how to focus on the essential points and get the deal. \nScale your Innovation into Revenue!™ \nAbout the Speaker: \nSteve Austin is a 25-year veteran of Silicon Valley and the founder of Silicon Valley iLab.He has worked with over 2\,500 startups—giving him a unique insight into challenges and secrets to success when it comes to being an entrepreneur. Dozens of startups have raised funds and scaled up after attending Steve’s workshops. \nSteve has presented workshops in Silicon Valley\, San Francisco and around the world. He has spoken at conferences at Tsinghua\, Geju and SUES Universities in China and at incubators and accelerators in in Austria\, Korea and Turkey. \nSteve is a serial entrepreneur. He has developed and launched a dozen high-tech products for making computer chips and enterprise billing. He has been the CEO\, MD\, and vice president of sales and marketing for several organizations. Steve has managed global operations including personally generating hundreds of millions of dollars in B2B sales. \nSteve holds a BS in Finance and Chemistry. For fun\, he enjoys playing the guitar and hiking. \nYou can reach Steve at: https://www.linkedin.com/in/steveaustin/
URL:https://www.washingtontechnology.org/event/free-pitch-practice-how-to-pitch-to-investors-and-get-the-deal/2024-02-07/
LOCATION:Virtual
CATEGORIES:Community Partner Events
ATTACH;FMTTYPE=image/webp:https://www.washingtontechnology.org/wp-content/uploads/2023/06/600_490207274.webp
END:VEVENT
BEGIN:VEVENT
DTSTART;TZID=America/Los_Angeles:20240212T120000
DTEND;TZID=America/Los_Angeles:20240212T130000
DTSTAMP:20240106T011908
CREATED:20231115T031809Z
LAST-MODIFIED:20231115T031949Z
UID:10001718-1707739200-1707742800@www.washingtontechnology.org
SUMMARY:Silicon Valley Business Networking (Online)
DESCRIPTION:Rsvp: \nOrganizational Sponsor: \nStartup House \nNeed a place to stay short term in Silicon Valley? \nStay at Startup House in Palo Alto – the heart of Silicon Valley – for as low as $50 a night! \n-Network\, socialize and connect with entrepreneurs all over the world! \n-Enjoy social events and startup and venture capital-related programming! \n– Have access to world class amenities\, iconic tech companies\, top tier venture capital firms\, Stanford University\, etc. – all within walking or biking distance! \nFor more info\, send an email message to: \nsiliconvalleystartuphousing@gmail.com \nPut this in the subject header: \nSilicon Valley Startup Housing \nThis event is 100% online. \nParticipants can be located anywhere in the world! \nThis event is FREE to attend! \nIn order to attend\, please register here: \nhttps://www.eventbrite.com/e/silicon-valley-business-networking-online-tickets-712802279807?aff=oddtdtcreator \n(The login link will be sent via email to Eventbrite registrants right before the start of the event.)
URL:https://www.washingtontechnology.org/event/silicon-valley-business-networking-online/2024-02-12/
LOCATION:Virtual
END:VEVENT
BEGIN:VEVENT
DTSTART;TZID=America/Los_Angeles:20240214T190000
DTEND;TZID=America/Los_Angeles:20240214T210000
DTSTAMP:20240106T011908
CREATED:20230623T082924Z
LAST-MODIFIED:20230623T082924Z
UID:10001152-1707937200-1707944400@www.washingtontechnology.org
SUMMARY:FREE! Pitch Practice: How to Pitch to Investors and Get the Deal
DESCRIPTION:RSVP Here!\nThis is an online event. Participation is 100% online. \nParticipants who have registered and paid via Eventbrite will be emailed the login link and info before the start of the event. \nParticipants can be located anywhere in the world! \nThis event is FREE to attend. \nA “YES” RSVP on our meetup site does not confirm your reservation. \nSpace is limited. Please only RSVP “Yes” if you will be attending \nIn order to attend\, please register here: \nhttps://www.eventbrite.com/e/free-pitch-practice-how-to-pitch-to-investors-successfully-raise-money-tickets-122887079563?aff=IdeaSViLabFreeTix33Comm&afu=3951017871 \nHurry! Slots are limited! \nRaising $ is tough- and now it’s all changed. PRACTICE your PITCH\, get facts & inside info to RAISE $ & Scale your Innovation into Revenue! \nYou are invited to a live-steam webinar/workshop. \n*** BRING YOUR PITCH DECK. Two or more Founders will pitch and get feedback. *** \n*** Audience members will get a chance to make a NEW ELEVATOR PITCH and get feedback. THIS IS A REAL WORKSHOP! *** \nRaising money is a difficult and stressful task for startup Founders.Founders struggle to get the right combination of facts and projections to persuade investors to put in money. \nThis workshop is an intro to the longer pitch program. It covers to the two main parts of pitching: \n\n\nWhat to say \n\n\nHow to say it \n\n\nOn this webinar you will learn: \n\n\nThe five step elevator pitch to get to the point in 60 seconds. \n\n\nThe standard topic for each page of the pitch deck\, (for 90% of the startups) \n\n\nHow to use your customer “use case” in a story to show what your product does \n\n\nThe four key background points to set your pitch in the right direction \n\n\nThe key item two thirds of startup pitches leave out that is critical to customer adaption \n\n\nThe essential key points investors are looking for \n\n\nand more! \nThis workshop is an intro to a four day workshop that speaker\, entrepreneur and thought leader Steve Austin has presented to accelerators in San Francisco\, Silicon Valley\, in Asia and Europe.This content was derived from interviews with angel investors and venture capitalists in attendance at over 100 pitch to investor events where Steve’s students have pitched. \nThis workshop focuses on what angel investors and venture capitalists have indicated they are looking for in startup pitches. \nDon’t waste more time with weak pitches. \nLearn how to focus on the essential points and get the deal. \nScale your Innovation into Revenue!™ \nAbout the Speaker: \nSteve Austin is a 25-year veteran of Silicon Valley and the founder of Silicon Valley iLab.He has worked with over 2\,500 startups—giving him a unique insight into challenges and secrets to success when it comes to being an entrepreneur. Dozens of startups have raised funds and scaled up after attending Steve’s workshops. \nSteve has presented workshops in Silicon Valley\, San Francisco and around the world. He has spoken at conferences at Tsinghua\, Geju and SUES Universities in China and at incubators and accelerators in in Austria\, Korea and Turkey. \nSteve is a serial entrepreneur. He has developed and launched a dozen high-tech products for making computer chips and enterprise billing. He has been the CEO\, MD\, and vice president of sales and marketing for several organizations. Steve has managed global operations including personally generating hundreds of millions of dollars in B2B sales. \nSteve holds a BS in Finance and Chemistry. For fun\, he enjoys playing the guitar and hiking. \nYou can reach Steve at: https://www.linkedin.com/in/steveaustin/
URL:https://www.washingtontechnology.org/event/free-pitch-practice-how-to-pitch-to-investors-and-get-the-deal/2024-02-14/
LOCATION:Virtual
CATEGORIES:Community Partner Events
ATTACH;FMTTYPE=image/webp:https://www.washingtontechnology.org/wp-content/uploads/2023/06/600_490207274.webp
END:VEVENT
BEGIN:VEVENT
DTSTART;TZID=America/Los_Angeles:20240219T120000
DTEND;TZID=America/Los_Angeles:20240219T130000
DTSTAMP:20240106T011908
CREATED:20231115T031809Z
LAST-MODIFIED:20231115T031949Z
UID:10001719-1708344000-1708347600@www.washingtontechnology.org
SUMMARY:Silicon Valley Business Networking (Online)
DESCRIPTION:Rsvp: \nOrganizational Sponsor: \nStartup House \nNeed a place to stay short term in Silicon Valley? \nStay at Startup House in Palo Alto – the heart of Silicon Valley – for as low as $50 a night! \n-Network\, socialize and connect with entrepreneurs all over the world! \n-Enjoy social events and startup and venture capital-related programming! \n– Have access to world class amenities\, iconic tech companies\, top tier venture capital firms\, Stanford University\, etc. – all within walking or biking distance! \nFor more info\, send an email message to: \nsiliconvalleystartuphousing@gmail.com \nPut this in the subject header: \nSilicon Valley Startup Housing \nThis event is 100% online. \nParticipants can be located anywhere in the world! \nThis event is FREE to attend! \nIn order to attend\, please register here: \nhttps://www.eventbrite.com/e/silicon-valley-business-networking-online-tickets-712802279807?aff=oddtdtcreator \n(The login link will be sent via email to Eventbrite registrants right before the start of the event.)
URL:https://www.washingtontechnology.org/event/silicon-valley-business-networking-online/2024-02-19/
LOCATION:Virtual
END:VEVENT
BEGIN:VEVENT
DTSTART;TZID=America/Los_Angeles:20240220T180000
DTEND;TZID=America/Los_Angeles:20240220T210000
DTSTAMP:20240106T011908
CREATED:20240105T205802Z
LAST-MODIFIED:20240105T214030Z
UID:10001987-1708452000-1708462800@www.washingtontechnology.org
SUMMARY:Trajectory: Startup - Session 1 - Ideation\, Research\, Markets\, & Telling Your Story
DESCRIPTION:Session 1 –  Ideation\, Research\, Markets\, & Telling Your Story\n​This is a journey! 90% of startups fail (CBInsights/Fortune) and 75% of venture-backed companies fail (HBS). What do you need to know before you become a statistic? This session will help you tell your story and do the research that sits behind each slide of your pitch deck. \n​You’ll have time between each session to complete the session deliverables. Each subsequent session will open with mentors reviewing your prior session’s deliverables. \n\n\n\n​Introduction to the Trajectory Series\n​Telling Your Story\n​Research & Competitive Analysis\n​Market Sizing\n​Value Propositions\n​Co-Founders – Finding one or having an Awkward Co-Founder Discussion\n\n\n\n\n​The Trajectory Series is based on Dave Parker’s book\, Trajectory: Startup—Ideation to Product/Market Fit. Dave is a 5-time founder; selling three and closing two of those companies. He was also COO/SVP of Programs and People at UP Global\, the merged parent company of Startup Weekend + Startup America. The non-profit delivered 1265 events in 120 countries with 74\,000 attendees before selling to Techstars. \n​Parker has also delivered these seminars and programs globally through: \n​Techstars \n​Global Accelerator Network \n​500 Startups \n​Flat6 Labs- Bahrain\, Cairo\, Abu Dhabi\, Saudi\, Tunis\, Beirut \n​Washington Technology Industry Association (WTIA) \n​Equitable Innovation Accelerator \n​PortGen Accelerator \n​Korean Innovation Center (KIC) \n​Founder Institute \n​With the WTIA\, the programming is currently scheduled to expand from the Seattle market to Washington statewide via a federal Build to Scale grant by the US Economic Development Administration. \n​The curriculum is designed for adult learners but can be repurposed to support college students (over a semester or quarter timeline) and corporate innovators. \n​Each program has a set of deliverables. This work isn’t “homework” but is designed to get the attendee to do the work to launch their startup. Many founders will learn the frameworks and pivot to a new idea if they realize the idea is late to market or that they can’t make money with the idea.
URL:https://www.washingtontechnology.org/event/trajectory-startup-session-1-ideation-research-markets-telling-your-story/
LOCATION:Startup Hall\, 1100 NE Campus Parkway\, 2nd Floor\, Seattle\, WA\, 98105\, United States
CATEGORIES:Startup Program
ATTACH;FMTTYPE=image/png:https://www.washingtontechnology.org/wp-content/uploads/2024/01/Trajectory.png
ORGANIZER;CN="WTIA":MAILTO:info@washingtontechnolofy.org
END:VEVENT
BEGIN:VEVENT
DTSTART;TZID=America/Los_Angeles:20240221T190000
DTEND;TZID=America/Los_Angeles:20240221T210000
DTSTAMP:20240106T011908
CREATED:20230623T082924Z
LAST-MODIFIED:20230623T082924Z
UID:10001153-1708542000-1708549200@www.washingtontechnology.org
SUMMARY:FREE! Pitch Practice: How to Pitch to Investors and Get the Deal
DESCRIPTION:RSVP Here!\nThis is an online event. Participation is 100% online. \nParticipants who have registered and paid via Eventbrite will be emailed the login link and info before the start of the event. \nParticipants can be located anywhere in the world! \nThis event is FREE to attend. \nA “YES” RSVP on our meetup site does not confirm your reservation. \nSpace is limited. Please only RSVP “Yes” if you will be attending \nIn order to attend\, please register here: \nhttps://www.eventbrite.com/e/free-pitch-practice-how-to-pitch-to-investors-successfully-raise-money-tickets-122887079563?aff=IdeaSViLabFreeTix33Comm&afu=3951017871 \nHurry! Slots are limited! \nRaising $ is tough- and now it’s all changed. PRACTICE your PITCH\, get facts & inside info to RAISE $ & Scale your Innovation into Revenue! \nYou are invited to a live-steam webinar/workshop. \n*** BRING YOUR PITCH DECK. Two or more Founders will pitch and get feedback. *** \n*** Audience members will get a chance to make a NEW ELEVATOR PITCH and get feedback. THIS IS A REAL WORKSHOP! *** \nRaising money is a difficult and stressful task for startup Founders.Founders struggle to get the right combination of facts and projections to persuade investors to put in money. \nThis workshop is an intro to the longer pitch program. It covers to the two main parts of pitching: \n\n\nWhat to say \n\n\nHow to say it \n\n\nOn this webinar you will learn: \n\n\nThe five step elevator pitch to get to the point in 60 seconds. \n\n\nThe standard topic for each page of the pitch deck\, (for 90% of the startups) \n\n\nHow to use your customer “use case” in a story to show what your product does \n\n\nThe four key background points to set your pitch in the right direction \n\n\nThe key item two thirds of startup pitches leave out that is critical to customer adaption \n\n\nThe essential key points investors are looking for \n\n\nand more! \nThis workshop is an intro to a four day workshop that speaker\, entrepreneur and thought leader Steve Austin has presented to accelerators in San Francisco\, Silicon Valley\, in Asia and Europe.This content was derived from interviews with angel investors and venture capitalists in attendance at over 100 pitch to investor events where Steve’s students have pitched. \nThis workshop focuses on what angel investors and venture capitalists have indicated they are looking for in startup pitches. \nDon’t waste more time with weak pitches. \nLearn how to focus on the essential points and get the deal. \nScale your Innovation into Revenue!™ \nAbout the Speaker: \nSteve Austin is a 25-year veteran of Silicon Valley and the founder of Silicon Valley iLab.He has worked with over 2\,500 startups—giving him a unique insight into challenges and secrets to success when it comes to being an entrepreneur. Dozens of startups have raised funds and scaled up after attending Steve’s workshops. \nSteve has presented workshops in Silicon Valley\, San Francisco and around the world. He has spoken at conferences at Tsinghua\, Geju and SUES Universities in China and at incubators and accelerators in in Austria\, Korea and Turkey. \nSteve is a serial entrepreneur. He has developed and launched a dozen high-tech products for making computer chips and enterprise billing. He has been the CEO\, MD\, and vice president of sales and marketing for several organizations. Steve has managed global operations including personally generating hundreds of millions of dollars in B2B sales. \nSteve holds a BS in Finance and Chemistry. For fun\, he enjoys playing the guitar and hiking. \nYou can reach Steve at: https://www.linkedin.com/in/steveaustin/
URL:https://www.washingtontechnology.org/event/free-pitch-practice-how-to-pitch-to-investors-and-get-the-deal/2024-02-21/
LOCATION:Virtual
CATEGORIES:Community Partner Events
ATTACH;FMTTYPE=image/webp:https://www.washingtontechnology.org/wp-content/uploads/2023/06/600_490207274.webp
END:VEVENT
BEGIN:VEVENT
DTSTART;TZID=America/Los_Angeles:20240226T120000
DTEND;TZID=America/Los_Angeles:20240226T130000
DTSTAMP:20240106T011908
CREATED:20231115T031809Z
LAST-MODIFIED:20231115T031949Z
UID:10001720-1708948800-1708952400@www.washingtontechnology.org
SUMMARY:Silicon Valley Business Networking (Online)
DESCRIPTION:Rsvp: \nOrganizational Sponsor: \nStartup House \nNeed a place to stay short term in Silicon Valley? \nStay at Startup House in Palo Alto – the heart of Silicon Valley – for as low as $50 a night! \n-Network\, socialize and connect with entrepreneurs all over the world! \n-Enjoy social events and startup and venture capital-related programming! \n– Have access to world class amenities\, iconic tech companies\, top tier venture capital firms\, Stanford University\, etc. – all within walking or biking distance! \nFor more info\, send an email message to: \nsiliconvalleystartuphousing@gmail.com \nPut this in the subject header: \nSilicon Valley Startup Housing \nThis event is 100% online. \nParticipants can be located anywhere in the world! \nThis event is FREE to attend! \nIn order to attend\, please register here: \nhttps://www.eventbrite.com/e/silicon-valley-business-networking-online-tickets-712802279807?aff=oddtdtcreator \n(The login link will be sent via email to Eventbrite registrants right before the start of the event.)
URL:https://www.washingtontechnology.org/event/silicon-valley-business-networking-online/2024-02-26/
LOCATION:Virtual
END:VEVENT
BEGIN:VEVENT
DTSTART;TZID=America/Los_Angeles:20240227T120000
DTEND;TZID=America/Los_Angeles:20240227T130000
DTSTAMP:20240106T011908
CREATED:20230623T081907Z
LAST-MODIFIED:20230623T081907Z
UID:10001007-1709035200-1709038800@www.washingtontechnology.org
SUMMARY:Free Startup Fundraising Office Hours AMA with Angel Investor Scott Fox!
DESCRIPTION:RSVP Here!\nStartup Entrepreneurs – Free LIVE Fundraising Q&A with Angel Investor/Serial Founder/Startup Expert Scott Fox \nBring your startup questions to the Startup Council’s FREE founder fundraising “Office Hours”. You’ll get FREE expert Silicon Valley advice to help diverse entrepreneurs start\, raise money\, and grow new ventures. \nHave questions about raising venture capital? How to find product/market fit? Angel investors? Pitch decks? Building your team? Protecting your intellectual property? How to find investors and pitch to raise your seed round? Starting a company as a first-time\, female\, or minority founder? \nA fun\, friendly #livestream videocast show for startup founders and friends\, our mission is to increase access to innovation and investment for all. Join startup expert\, Scott Fox\, for valuable startup strategy advice\, fundraising expertise\, and networking\, too. \nWHEN: The 4th Tuesday of every month at NOON Pacific Time (300pm ET/~800pm UK): https://startup-office-hours.eventbrite.com \nJOIN US to WATCH & CHAT LIVE ONLINE:\nhttps://www.linkedin.com/company/startupcouncil\nhttps://www.youtube.com/scottfox\nhttps://www.facebook.com/clickmillionaire\nhttps://startup-office-hours.eventbrite.com\nPodcast: http://scottfoxradio.com \nHAVE A STARTUP QUESTION? RSVP in advance for helpful\, free expert feedback LIVE!\nPlease send in your Startup Question here ***before ***the show:\nhttps://startup-office-hours.eventbrite.com \nYour Host & Moderator: Scott Fox CEO of the Startup Council\, Chairman of Stanford Angels & Entrepreneurs Orange County\, Tech Coast Angels\, investor in 20+ startup companies\, serial startup founder\, best-selling entrepreneurship author of Click Millionaires\, Internet Riches\, more… \nSPONSORS \n** Presented in partnership with the Women’s Business Center. ** \nCake Equity: Thanks to Cake Equity for supporting this show! Learn how Cake’s global stock options platform can help your startup team easily ‘share the cake’\, too. Their basic plan is FREE for your first 5 option grants\, and you can save 20% after that by visiting https://cakeequity.com/partner/sc. \nWant great FREE Startup Advice NOW? Click to SUBSCRIBE & see previous shows now at https://www.youtube.com/scottfox \nBy attending/watching all participants recognize that advice given is PUBLIC\, is for entertainment/informational use only\, agree to release\, indemnify\, hold harmless\, defend\, and pay defense costs for all organizers from any and all liability or claims\, and consent to use and sharing in any media of any photos or videos taken.
URL:https://www.washingtontechnology.org/event/free-startup-fundraising-office-hours-ama-with-angel-investor-scott-fox/2024-02-27/
LOCATION:Virtual
CATEGORIES:Community Partner Events
ATTACH;FMTTYPE=image/webp:https://www.washingtontechnology.org/wp-content/uploads/2023/06/600_512800817.webp
END:VEVENT
BEGIN:VEVENT
DTSTART;TZID=America/Los_Angeles:20240228T190000
DTEND;TZID=America/Los_Angeles:20240228T210000
DTSTAMP:20240106T011908
CREATED:20230623T082924Z
LAST-MODIFIED:20230623T082924Z
UID:10001154-1709146800-1709154000@www.washingtontechnology.org
SUMMARY:FREE! Pitch Practice: How to Pitch to Investors and Get the Deal
DESCRIPTION:RSVP Here!\nThis is an online event. Participation is 100% online. \nParticipants who have registered and paid via Eventbrite will be emailed the login link and info before the start of the event. \nParticipants can be located anywhere in the world! \nThis event is FREE to attend. \nA “YES” RSVP on our meetup site does not confirm your reservation. \nSpace is limited. Please only RSVP “Yes” if you will be attending \nIn order to attend\, please register here: \nhttps://www.eventbrite.com/e/free-pitch-practice-how-to-pitch-to-investors-successfully-raise-money-tickets-122887079563?aff=IdeaSViLabFreeTix33Comm&afu=3951017871 \nHurry! Slots are limited! \nRaising $ is tough- and now it’s all changed. PRACTICE your PITCH\, get facts & inside info to RAISE $ & Scale your Innovation into Revenue! \nYou are invited to a live-steam webinar/workshop. \n*** BRING YOUR PITCH DECK. Two or more Founders will pitch and get feedback. *** \n*** Audience members will get a chance to make a NEW ELEVATOR PITCH and get feedback. THIS IS A REAL WORKSHOP! *** \nRaising money is a difficult and stressful task for startup Founders.Founders struggle to get the right combination of facts and projections to persuade investors to put in money. \nThis workshop is an intro to the longer pitch program. It covers to the two main parts of pitching: \n\n\nWhat to say \n\n\nHow to say it \n\n\nOn this webinar you will learn: \n\n\nThe five step elevator pitch to get to the point in 60 seconds. \n\n\nThe standard topic for each page of the pitch deck\, (for 90% of the startups) \n\n\nHow to use your customer “use case” in a story to show what your product does \n\n\nThe four key background points to set your pitch in the right direction \n\n\nThe key item two thirds of startup pitches leave out that is critical to customer adaption \n\n\nThe essential key points investors are looking for \n\n\nand more! \nThis workshop is an intro to a four day workshop that speaker\, entrepreneur and thought leader Steve Austin has presented to accelerators in San Francisco\, Silicon Valley\, in Asia and Europe.This content was derived from interviews with angel investors and venture capitalists in attendance at over 100 pitch to investor events where Steve’s students have pitched. \nThis workshop focuses on what angel investors and venture capitalists have indicated they are looking for in startup pitches. \nDon’t waste more time with weak pitches. \nLearn how to focus on the essential points and get the deal. \nScale your Innovation into Revenue!™ \nAbout the Speaker: \nSteve Austin is a 25-year veteran of Silicon Valley and the founder of Silicon Valley iLab.He has worked with over 2\,500 startups—giving him a unique insight into challenges and secrets to success when it comes to being an entrepreneur. Dozens of startups have raised funds and scaled up after attending Steve’s workshops. \nSteve has presented workshops in Silicon Valley\, San Francisco and around the world. He has spoken at conferences at Tsinghua\, Geju and SUES Universities in China and at incubators and accelerators in in Austria\, Korea and Turkey. \nSteve is a serial entrepreneur. He has developed and launched a dozen high-tech products for making computer chips and enterprise billing. He has been the CEO\, MD\, and vice president of sales and marketing for several organizations. Steve has managed global operations including personally generating hundreds of millions of dollars in B2B sales. \nSteve holds a BS in Finance and Chemistry. For fun\, he enjoys playing the guitar and hiking. \nYou can reach Steve at: https://www.linkedin.com/in/steveaustin/
URL:https://www.washingtontechnology.org/event/free-pitch-practice-how-to-pitch-to-investors-and-get-the-deal/2024-02-28/
LOCATION:Virtual
CATEGORIES:Community Partner Events
ATTACH;FMTTYPE=image/webp:https://www.washingtontechnology.org/wp-content/uploads/2023/06/600_490207274.webp
END:VEVENT
END:VCALENDAR